BEGIN:VCALENDAR
VERSION:2.0
PRODID:-//Matamata Piako Model Aero Club - ECPv4.6.25//NONSGML v1.0//EN
CALSCALE:GREGORIAN
METHOD:PUBLISH
X-WR-CALNAME:Matamata Piako Model Aero Club
X-ORIGINAL-URL:https://mpmac.org.nz
X-WR-CALDESC:Events for Matamata Piako Model Aero Club
BEGIN:VEVENT
DTSTART;VALUE=DATE:20210226
DTEND;VALUE=DATE:20210301
DTSTAMP:20210120T194206
CREATED:20201021T214105Z
LAST-MODIFIED:20201021T214558Z
UID:431-1614297600-1614556799@mpmac.org.nz
SUMMARY:Aerobatics over Awatoto
DESCRIPTION:
URL:https://mpmac.org.nz/?tribe_events=aerobatics-over-awatoto
LOCATION:Hawkes Bay\, Waitangi Road\, Awatoto\, New Zealand
END:VEVENT
END:VCALENDAR