BEGIN:VCALENDAR
VERSION:2.0
PRODID:-//Matamata Piako Model Aero Club - ECPv4.6.25//NONSGML v1.0//EN
CALSCALE:GREGORIAN
METHOD:PUBLISH
X-WR-CALNAME:Matamata Piako Model Aero Club
X-ORIGINAL-URL:https://mpmac.org.nz
X-WR-CALDESC:Events for Matamata Piako Model Aero Club
BEGIN:VEVENT
DTSTART;VALUE=DATE:20210227
DTEND;VALUE=DATE:20210228
DTSTAMP:20210120T194208
CREATED:20200728T224602Z
LAST-MODIFIED:20200728T224602Z
UID:337-1614384000-1614470399@mpmac.org.nz
SUMMARY:Scale Competition
DESCRIPTION:
URL:https://mpmac.org.nz/?tribe_events=scale-competition-2
LOCATION:MPMAC Field\, 114 Jagger Road\, Waharoa\, 3474
END:VEVENT
END:VCALENDAR